BEGIN:VCALENDAR
VERSION:2.0
PRODID:-//Drupal iCal API//EN
X-WR-CALNAME:Calendar of Events
X-WR-TIMEZONE:America/Chicago
BEGIN:VTIMEZONE
TZID:America/Chicago
X-LIC-LOCATION:America/Chicago
BEGIN:DAYLIGHT
TZNAME:CDT
TZOFFSETFROM:-0600
TZOFFSETTO:-0500
DTSTART:20230312T080000
END:DAYLIGHT
BEGIN:STANDARD
TZNAME:CST
TZOFFSETFROM:-0500
TZOFFSETTO:-0600
DTSTART:20221106T070000
END:STANDARD
END:VTIMEZONE
BEGIN:VEVENT
UID:4ddc8ee1-57d2-417d-a071-d8a6779f8b92
DTSTART;TZID=America/Chicago:20230923T090000
SEQUENCE:0
TRANSP:TRANSPARENT
DTEND;TZID=America/Chicago:20230923T120000
SUMMARY:🍎 Austin ISD Showcase
CLASS:PUBLIC
DESCRIPTION:Body \n\nRead (English\n[/sites/austin.austinschools.org/files/
 inline-files/Showcase%2023%20Flyer%20English.pdf])/(Spanish\n[/sites/austi
 n.austinschools.org/files/inline-files/Showcase%2023%20Flyer%20Spanish.pdf
 ])\nor visit the AISD Showcase webpag\n[https://www.austinisd.org/showcase
 ]e for more information.\n\n[Showcase English]\n\n[Showcase - Spanish]\n\n
  
DTSTAMP:20260417T113217Z
END:VEVENT
END:VCALENDAR